{
 "currentVersion": 10.61,
 "serviceDescription": "A geocodable and routable street centerline file used by City of Dallas for dispatching and routing of emergency and non-emergency services in Dallas.",
 "mapName": "Layers",
 "description": "",
 "copyrightText": "City of Dallas GIS Services",
 "supportsDynamicLayers": false,
 "layers": [
  {
   "id": 0,
   "name": "Highways",
   "parentLayerId": -1,
   "defaultVisibility": true,
   "subLayerIds": null,
   "minScale": 577792,
   "maxScale": 0
  },
  {
   "id": 1,
   "name": "Major Streets",
   "parentLayerId": -1,
   "defaultVisibility": true,
   "subLayerIds": null,
   "minScale": 288896,
   "maxScale": 0
  },
  {
   "id": 2,
   "name": "Streets",
   "parentLayerId": -1,
   "defaultVisibility": true,
   "subLayerIds": null,
   "minScale": 72225,
   "maxScale": 0
  }
 ],
 "tables": [],
 "spatialReference": {
  "wkid": 102738,
  "latestWkid": 2276
 },
 "singleFusedMapCache": true,
 "tileInfo": {
  "rows": 256,
  "cols": 256,
  "dpi": 96,
  "format": "PNG",
  "compressionQuality": 0,
  "origin": {
   "x": -123407700,
   "y": 164628900
  },
  "spatialReference": {
   "wkid": 102738,
   "latestWkid": 2276
  },
  "lods": [
   {
    "level": 0,
    "resolution": 501.5543200520833,
    "scale": 577790.5767
   },
   {
    "level": 1,
    "resolution": 250.77716006944445,
    "scale": 288895.2884
   },
   {
    "level": 2,
    "resolution": 125.38858003472222,
    "scale": 144447.6442
   },
   {
    "level": 3,
    "resolution": 62.694290008680554,
    "scale": 72223.82209
   },
   {
    "level": 4,
    "resolution": 31.347144999999998,
    "scale": 36111.91104
   },
   {
    "level": 5,
    "resolution": 15.673572499999999,
    "scale": 18055.95552
   },
   {
    "level": 6,
    "resolution": 7.836786250868055,
    "scale": 9027.977761
   },
   {
    "level": 7,
    "resolution": 3.9183931249999997,
    "scale": 4513.98888
   },
   {
    "level": 8,
    "resolution": 1.9591965624999998,
    "scale": 2256.99444
   },
   {
    "level": 9,
    "resolution": 0.9795982812499999,
    "scale": 1128.49722
   }
  ]
 },
 "initialExtent": {
  "xmin": 2338141.619566688,
  "ymin": 6910000.641294799,
  "xmax": 2671908.980677799,
  "ymax": 7130777.71534825,
  "spatialReference": {
   "wkid": 102738,
   "latestWkid": 2276
  }
 },
 "fullExtent": {
  "xmin": 2406292.4909342974,
  "ymin": 6884084.490692556,
  "xmax": 2598087.473485306,
  "ymax": 7096654.967781723,
  "spatialReference": {
   "wkid": 102738,
   "latestWkid": 2276
  }
 },
 "minScale": 577790.5767,
 "maxScale": 1128.49722,
 "units": "esriFeet",
 "supportedImageFormatTypes": "PNG32,PNG24,PNG,JPG,DIB,TIFF,EMF,PS,PDF,GIF,SVG,SVGZ,BMP",
 "documentInfo": {
  "Title": "Dallas Area Roads",
  "Author": "City of Dallas GIS Services",
  "Comments": "A geocodable and routable street centerline file used by City of Dallas for dispatching and routing of emergency and non-emergency services in Dallas.",
  "Subject": "Street Centerline for City of Dallas and surrounding.",
  "Category": "",
  "AntialiasingMode": "None",
  "TextAntialiasingMode": "Force",
  "Keywords": "Dallas,roads,GIS,centerline,geocode,routing"
 },
 "capabilities": "Data,Map,Query",
 "supportedQueryFormats": "JSON, AMF, geoJSON",
 "exportTilesAllowed": false,
 "datumTransformations": [
  {
   "geoTransforms": [
    {
     "wkid": 108001,
     "latestWkid": 1241,
     "transformForward": true,
     "name": "NAD_1927_To_NAD_1983_NADCON"
    }
   ]
  },
  {
   "geoTransforms": [
    {
     "wkid": 108001,
     "latestWkid": 1241,
     "transformForward": false,
     "name": "NAD_1927_To_NAD_1983_NADCON"
    }
   ]
  }
 ],
 "supportsDatumTransformation": true,
 "maxRecordCount": 1000,
 "maxImageHeight": 4096,
 "maxImageWidth": 4096,
 "supportedExtensions": ""
}
