{
 "currentVersion": 10.61,
 "serviceDescription": "Tax parcels from Dallas, Collin, Denton, Kaufman and Rockwall county appraisal districts. Includes City of Dallas and one-mile buffer.",
 "mapName": "Layers",
 "description": "",
 "copyrightText": "Dallas, Collin, Denton, Kaufman and Rockwall county appraisal districts; City GIS Services",
 "supportsDynamicLayers": false,
 "layers": [
  {
   "id": 0,
   "name": "Tax Parcels",
   "parentLayerId": -1,
   "defaultVisibility": true,
   "subLayerIds": null,
   "minScale": 18056,
   "maxScale": 0
  }
 ],
 "tables": [],
 "spatialReference": {
  "wkid": 102738,
  "latestWkid": 2276
 },
 "singleFusedMapCache": true,
 "tileInfo": {
  "rows": 256,
  "cols": 256,
  "dpi": 96,
  "format": "PNG",
  "compressionQuality": 0,
  "origin": {
   "x": -123407700,
   "y": 164628900
  },
  "spatialReference": {
   "wkid": 102738,
   "latestWkid": 2276
  },
  "lods": [
   {
    "level": 0,
    "resolution": 15.673572499999999,
    "scale": 18055.95552
   },
   {
    "level": 1,
    "resolution": 7.836786250868055,
    "scale": 9027.977761
   },
   {
    "level": 2,
    "resolution": 3.9183931249999997,
    "scale": 4513.98888
   },
   {
    "level": 3,
    "resolution": 1.9591965624999998,
    "scale": 2256.99444
   },
   {
    "level": 4,
    "resolution": 0.9795982812499999,
    "scale": 1128.49722
   }
  ]
 },
 "initialExtent": {
  "xmin": 2479159.361538691,
  "ymin": 6961543.398461401,
  "xmax": 2503264.040358136,
  "ymax": 6976495.195336401,
  "spatialReference": {
   "wkid": 102738,
   "latestWkid": 2276
  }
 },
 "fullExtent": {
  "xmin": 2418760.209437132,
  "ymin": 6897383.30464606,
  "xmax": 2600736.647320807,
  "ymax": 7068946.5651934,
  "spatialReference": {
   "wkid": 102738,
   "latestWkid": 2276
  }
 },
 "minScale": 18055.95552,
 "maxScale": 1128.49722,
 "units": "esriFeet",
 "supportedImageFormatTypes": "PNG32,PNG24,PNG,JPG,DIB,TIFF,EMF,PS,PDF,GIF,SVG,SVGZ,BMP",
 "documentInfo": {
  "Title": "DallasTaxParcels",
  "Author": "City of Dallas GIS Services",
  "Comments": "Tax parcels from Dallas, Collin, Denton, Kaufman and Rockwall county appraisal districts. Includes City of Dallas and one-mile buffer.",
  "Subject": "Dallas Tax Parcels",
  "Category": "",
  "AntialiasingMode": "None",
  "TextAntialiasingMode": "Force",
  "Keywords": "Dallas,Collin County,Denton County,Kaufman County,Rockwall County,Dallas County,parcel,appraisal"
 },
 "capabilities": "Data,Map,Query",
 "supportedQueryFormats": "JSON, AMF, geoJSON",
 "exportTilesAllowed": false,
 "datumTransformations": [
  {
   "geoTransforms": [
    {
     "wkid": 108001,
     "latestWkid": 1241,
     "transformForward": true,
     "name": "NAD_1927_To_NAD_1983_NADCON"
    }
   ]
  },
  {
   "geoTransforms": [
    {
     "wkid": 108001,
     "latestWkid": 1241,
     "transformForward": false,
     "name": "NAD_1927_To_NAD_1983_NADCON"
    }
   ]
  }
 ],
 "supportsDatumTransformation": true,
 "maxRecordCount": 1000,
 "maxImageHeight": 4096,
 "maxImageWidth": 4096,
 "supportedExtensions": ""
}
